Felt | Verdi |
AlreadyApplied | True |
AutoLateralCA | 0 |
AutoWhiteVersion | 134348800 |
BitsPerSample (1) | 16, 16, 16 |
BitsPerSample (2) | 16 16 16 |
BitsPerSample | 8 |
Blacks2012 | +30 |
BlueHue | -5 |
BlueSaturation | +25 |
CameraProfile | Kodak Gold 100 - C |
Clarity2012 | 0 |
ColorComponents | 3 |
ColorMode | RGB |
ColorNoiseReduction | 0 |
ColorSpace | sRGB |
ColorTransform | YCbCr |
Contrast2012 | 0 |
ConvertToGrayscale | False |
CopyrightFlag | False |
CreateDate | 2016:02:07 09:16:08+01:00 |
CreatorTool | Adobe Photoshop CS3 Windows |
DefringeGreenAmount | 0 |
DefringeGreenHueHi | 60 |
DefringeGreenHueLo | 40 |
DefringePurpleAmount | 0 |
DefringePurpleHueHi | 70 |
DefringePurpleHueLo | 30 |
ExifImageHeight | 853 |
ExifImageWidth | 1280 |
Exposure2012 | 0.00 |
Format | image/jpeg |
GrainAmount | 0 |
GreenHue | +35 |
GreenSaturation | 0 |
HasCrop | False |
HasSettings | True |
Highlights2012 | -60 |
HueAdjustmentAqua | +10 |
HueAdjustmentBlue | -5 |
HueAdjustmentGreen | +10 |
HueAdjustmentMagenta | +20 |
HueAdjustmentOrange | 0 |
HueAdjustmentPurple | +20 |
HueAdjustmentRed | 0 |
HueAdjustmentYellow | 0 |
ICCProfileName | sRGB IEC61966-2.1 |
ImageHeight (2) | 3840 |
ImageHeight | 853 |
ImageSize | 1280x853 |
ImageWidth (2) | 5760 |
ImageWidth | 1280 |
IncrementalTemperature | 0 |
IncrementalTint | 0 |
LensManualDistortionAmount | 0 |
LensProfileEnable | 0 |
LensProfileSetup | LensDefaults |
LuminanceAdjustmentAqua | +10 |
LuminanceAdjustmentBlue | -15 |
LuminanceAdjustmentGreen | -5 |
LuminanceAdjustmentMagenta | +20 |
LuminanceAdjustmentOrange | -4 |
LuminanceAdjustmentPurple | +20 |
LuminanceAdjustmentRed | +5 |
LuminanceAdjustmentYellow | +10 |
LuminanceSmoothing | 0 |
Megapixels | 1.1 |
ModifyDate (1) | 2016:02:07 09:16:08+01:00 |
ModifyDate | 2016:02:07 09:16:08 |
Orientation | Horizontal (normal) |
ParametricDarks | 0 |
ParametricHighlights | 0 |
ParametricHighlightSplit | 75 |
ParametricLights | 0 |
ParametricMidtoneSplit | 60 |
ParametricShadows | 0 |
ParametricShadowSplit | 14 |
PerspectiveAspect | 0 |
PerspectiveHorizontal | 0 |
PerspectiveRotate | 0.0 |
PerspectiveScale | 100 |
PerspectiveUpright | 0 |
PerspectiveVertical | 0 |
PhotometricInterpretation | RGB |
PlanarConfiguration | Chunky |
PostCropVignetteAmount | 0 |
ProcessVersion | 6.7 |
ProfileDescription | sRGB IEC61966-2.1 |
RedHue | +18 |
RedSaturation | +20 |
SamplesPerPixel | 3 |
Saturation | -5 |
SaturationAdjustmentAqua | -50 |
SaturationAdjustmentBlue | -30 |
SaturationAdjustmentGreen | -50 |
SaturationAdjustmentMagenta | -40 |
SaturationAdjustmentOrange | -8 |
SaturationAdjustmentPurple | -50 |
SaturationAdjustmentRed | -30 |
SaturationAdjustmentYellow | -15 |
Shadows2012 | +45 |
ShadowTint | -2 |
SharpenDetail | 25 |
SharpenEdgeMasking | 0 |
SharpenRadius | +1.0 |
Sharpness | 0 |
Software | Adobe Photoshop CS3 Windows |
SplitToningBalance | 0 |
SplitToningHighlightHue | 0 |
SplitToningHighlightSaturation | 0 |
SplitToningShadowHue | 0 |
SplitToningShadowSaturation | 0 |
ToneCurveName2012 | Gold 100 - - |
ToneCurvePV2012 | 0, 0, 15, 17, 58, 60, 122, 125, 255, 255 |
ToneCurvePV2012Blue | 0, 0, 24, 11, 83, 70, 119, 122, 183, 200, 255, 255 |
ToneCurvePV2012Green | 0, 0, 28, 9, 120, 124, 181, 198, 255, 255 |
ToneCurvePV2012Red | 0, 0, 30, 11, 71, 51, 119, 122, 182, 196, 255, 255 |
URL_List | |
Version | 8.2 |
Vibrance | 0 |
VignetteAmount | 0 |
WhiteBalance | As Shot |
Whites2012 | -50 |