Felt | Verdi |
AlreadyApplied | True |
Aperture | 11.0 |
ApertureValue | 11.0 |
ApproximateFocusDistance | 6.51 |
AutoLateralCA | 1 |
AutoWhiteVersion | 134348800 |
BitsPerSample | 8 |
Blacks2012 | -49 |
BlueHue | 0 |
BlueSaturation | 0 |
CameraProfile | Camera Landscape |
CircleOfConfusion | 0.026 mm |
Clarity2012 | -10 |
ColorComponents | 3 |
ColorNoiseReduction | 25 |
ColorNoiseReductionDetail | 50 |
ColorNoiseReductionSmoothness | 50 |
ColorSpace | sRGB |
ColorTemperature | 15726 |
ColorTransform | YCbCr |
Contrast2012 | 0 |
ConvertToGrayscale | False |
CreateDate (1) | 2016:01:01 14:53:26.07 |
CreateDate | 2016:01:01 14:53:26 |
CreatorTool | Adobe Photoshop Lightroom 6.3 (Macintosh) |
CropAngle | -0.290645 |
CropBottom | 0.702788 |
CropConstrainToWarp | 0 |
CropLeft | 0.089519 |
CropRight | 0.999602 |
CropTop | 0.008077 |
CustomRendered | Normal |
DateCreated (1) | 2016:01:01 |
DateCreated | 2016:01:01 14:53:26.07 |
DateTimeOriginal | 2016:01:01 14:53:26 |
DefringeGreenAmount | 0 |
DefringeGreenHueHi | 60 |
DefringeGreenHueLo | 40 |
DefringePurpleAmount | 0 |
DefringePurpleHueHi | 70 |
DefringePurpleHueLo | 30 |
Dehaze | 0 |
DOF | inf (1.96 m - inf) |
Exposure2012 | +1.20 |
ExposureCompensation | +3/2 |
ExposureMode | Auto |
ExposureProgram | Aperture-priority AE |
ExposureTime | 3 |
Firmware | 1.1.4 |
Flash | Off, Did not fire |
FlashCompensation | 0 |
FNumber | 11.0 |
FocalLength | 28.0 mm |
FocalLength35efl | 28.0 mm (35 mm equivalent: 33.0 mm) |
Format | image/jpeg |
FOV | 57.3 deg |
GradientBasedCorrActive | true |
GradientBasedCorrAmount | 1.000000 |
GradientBasedCorrBrightness | 0.000000 |
GradientBasedCorrClarity2012 | 0.000000 |
GradientBasedCorrContrast2012 | 0.000000 |
GradientBasedCorrDefringe | 0.000000 |
GradientBasedCorrExposure2012 (1) | -0.523513 |
GradientBasedCorrExposure2012 | 0.000000 |
GradientBasedCorrHighlights2012 | 0.000000 |
GradientBasedCorrHue | 0.000000 |
GradientBasedCorrLocalBlacks2012 | 0.000000 |
GradientBasedCorrLocalDehaze | 0.000000 |
GradientBasedCorrLocalWhites2012 | 0.000000 |
GradientBasedCorrLuminanceNoise | 0.000000 |
GradientBasedCorrMaskFullX (1) | 0.584534 |
GradientBasedCorrMaskFullX | 0.601242 |
GradientBasedCorrMaskFullY (1) | 0.742938 |
GradientBasedCorrMaskFullY | -0.013117 |
GradientBasedCorrMaskValue | 1.000000 |
GradientBasedCorrMaskWhat | Mask/Gradient |
GradientBasedCorrMaskZeroX (1) | 0.583728 |
GradientBasedCorrMaskZeroX | 0.601444 |
GradientBasedCorrMaskZeroY (1) | 0.588472 |
GradientBasedCorrMaskZeroY | 0.368837 |
GradientBasedCorrMoire | 0.000000 |
GradientBasedCorrSaturation | 0.000000 |
GradientBasedCorrShadows2012 | 0.000000 |
GradientBasedCorrSharpness | 0.000000 |
GradientBasedCorrTemperature | 0.000000 |
GradientBasedCorrTint | 0.000000 |
GradientBasedCorrWhat | Correction |
GrainAmount | 0 |
GreenHue | 0 |
GreenSaturation | 0 |
HasCrop | True |
HasExtendedXMP | 1B3C6ED6AEF0F383ABC777B0A2E34B39 |
HasSettings | True |
Highlights2012 | +100 |
HueAdjustmentAqua | 0 |
HueAdjustmentBlue | 0 |
HueAdjustmentGreen | +100 |
HueAdjustmentMagenta | 0 |
HueAdjustmentOrange | 0 |
HueAdjustmentPurple | 0 |
HueAdjustmentRed | 0 |
HueAdjustmentYellow | -27 |
HyperfocalDistance | 2.79 m |
ImageHeight | 2560 |
ImageNumber | 0 |
ImageSize | 4967x2560 |
ImageWidth | 4967 |
ISO | 100 |
Lens | EF24-105mm f/4L IS USM |
LensID (1) | 237 |
LensID | Canon EF 24-105mm f/4L IS USM |
LensInfo | 24-105mm f/? |
LensManualDistortionAmount | 0 |
LensModel | EF24-105mm f/4L IS USM |
LensProfileChromaticAberrationScale | 100 |
LensProfileDistortionScale | 100 |
LensProfileEnable | 1 |
LensProfileFilename | Canon EOS-1Ds Mark III (Canon EF 24-105mm f4 L IS USM) - RAW.lcp |
LensProfileName | Adobe (Canon EF 24-105mm f/4 L IS USM) |
LensProfileSetup | LensDefaults |
LensProfileVignettingScale | 100 |
LensSerialNumber | 0000a05c9e |
LightValue | 5.3 |
LuminanceAdjustmentAqua | 0 |
LuminanceAdjustmentBlue | 0 |
LuminanceAdjustmentGreen | 0 |
LuminanceAdjustmentMagenta | 0 |
LuminanceAdjustmentOrange | 0 |
LuminanceAdjustmentPurple | 0 |
LuminanceAdjustmentRed | 0 |
LuminanceAdjustmentYellow | 0 |
LuminanceNoiseReductionContrast | 0 |
LuminanceNoiseReductionDetail | 50 |
LuminanceSmoothing | 29 |
Make | Canon |
MaxApertureValue | 4.0 |
Megapixels | 12.7 |
MeteringMode | Multi-segment |
Model | Canon EOS 6D |
ModifyDate (1) | 2016:01:02 00:37:15+01:00 |
ModifyDate | 2016:01:02 00:37:15 |
PaintCorrectionActive | true |
PaintCorrectionAmount | 1.000000 |
PaintCorrectionBrightness | 0.000000 |
PaintCorrectionClarity2012 | 0.000000 |
PaintCorrectionContrast2012 | 0.000000 |
PaintCorrectionDefringe | 0.000000 |
PaintCorrectionExposure2012 (2) | -0.200646 |
PaintCorrectionExposure2012 (3) | 0.252028 |
PaintCorrectionExposure2012 (4) | 0.301983 |
PaintCorrectionExposure2012 (5) | -0.343374 |
PaintCorrectionExposure2012 (6) | 0.675331 |
PaintCorrectionExposure2012 (7) | -0.118615 |
PaintCorrectionExposure2012 | -0.199594 |
PaintCorrectionHighlights2012 (3) | 0.346605 |
PaintCorrectionHighlights2012 (4) | 0.771710 |
PaintCorrectionHighlights2012 (6) | 0.740685 |
PaintCorrectionHighlights2012 | 0.000000 |
PaintCorrectionHue | 0.000000 |
PaintCorrectionLocalBlacks2012 | 0.000000 |
PaintCorrectionLocalDehaze | 0.000000 |
PaintCorrectionLocalWhites2012 | 0.000000 |
PaintCorrectionLuminanceNoise | 0.000000 |
PaintCorrectionMaskCenterWeight | 0.063032 |
PaintCorrectionMaskFlow (8) | 1.000000 |
PaintCorrectionMaskFlow | 0.615105 |
PaintCorrectionMaskRadius (1) | 0.014710 |
PaintCorrectionMaskRadius (10) | 0.004020 |
PaintCorrectionMaskRadius (2) | 0.010440 |
PaintCorrectionMaskRadius (21) | 0.002511 |
PaintCorrectionMaskRadius (22) | 0.002512 |
PaintCorrectionMaskRadius (30) | 0.008037 |
PaintCorrectionMaskRadius (32) | 0.014673 |
PaintCorrectionMaskRadius (35) | 0.004812 |
PaintCorrectionMaskRadius (4) | 0.014354 |
PaintCorrectionMaskRadius (40) | 0.001964 |
PaintCorrectionMaskRadius (42) | 0.047005 |
PaintCorrectionMaskRadius (43) | 0.037533 |
PaintCorrectionMaskRadius (44) | 0.014759 |
PaintCorrectionMaskRadius (45) | 0.014772 |
PaintCorrectionMaskRadius (46) | 0.002554 |
PaintCorrectionMaskRadius (47) | 0.006256 |
PaintCorrectionMaskRadius (48) | 0.010906 |
PaintCorrectionMaskRadius (49) | 0.025289 |
PaintCorrectionMaskRadius (50) | 0.045398 |
PaintCorrectionMaskRadius (51) | 0.020511 |
PaintCorrectionMaskRadius (52) | 0.045369 |
PaintCorrectionMaskRadius (53) | 0.045380 |
PaintCorrectionMaskRadius (54) | 0.045185 |
PaintCorrectionMaskRadius (55) | 0.045279 |
PaintCorrectionMaskRadius (56) | 0.045290 |
PaintCorrectionMaskRadius (57) | 0.045328 |
PaintCorrectionMaskRadius (58) | 0.045158 |
PaintCorrectionMaskRadius (59) | 0.045169 |
PaintCorrectionMaskRadius (60) | 0.045176 |
PaintCorrectionMaskRadius (61) | 0.045472 |
PaintCorrectionMaskRadius (62) | 0.045796 |
PaintCorrectionMaskRadius (63) | 0.046295 |
PaintCorrectionMaskRadius (64) | 0.046267 |
PaintCorrectionMaskRadius | 0.046324 |
PaintCorrectionMaskValue | 1.000000 |
PaintCorrectionMaskWhat | Mask/Paint |
PaintCorrectionMoire | 0.000000 |
PaintCorrectionSaturation (13) | -0.416091 |
PaintCorrectionSaturation | 0.000000 |
PaintCorrectionShadows2012 (7) | -0.170448 |
PaintCorrectionShadows2012 | 0.000000 |
PaintCorrectionSharpness | 0.000000 |
PaintCorrectionTemperature (7) | -0.047927 |
PaintCorrectionTemperature | 0.000000 |
PaintCorrectionTint | 0.000000 |
PaintCorrectionWhat | Correction |
ParametricDarks | 0 |
ParametricHighlights | 0 |
ParametricHighlightSplit | 75 |
ParametricLights | 0 |
ParametricMidtoneSplit | 50 |
ParametricShadows | 0 |
ParametricShadowSplit | 25 |
PerspectiveAspect | 0 |
PerspectiveHorizontal | 0 |
PerspectiveRotate | 0.0 |
PerspectiveScale | 100 |
PerspectiveUpright | 0 |
PerspectiveVertical | 0 |
PostCropVignetteAmount | 0 |
ProcessVersion | 6.7 |
ProfileDescription | sRGB IEC61966-2.1 |
RecommendedExposureIndex | 100 |
RedHue | 0 |
RedSaturation | 0 |
Saturation | 0 |
SaturationAdjustmentAqua | 0 |
SaturationAdjustmentBlue | 0 |
SaturationAdjustmentGreen | 0 |
SaturationAdjustmentMagenta | 0 |
SaturationAdjustmentOrange | 0 |
SaturationAdjustmentPurple | 0 |
SaturationAdjustmentRed | 0 |
SaturationAdjustmentYellow | +25 |
ScaleFactor35efl | 1.2 |
SceneCaptureType | Standard |
SensitivityType | Recommended Exposure Index |
SerialNumber | 233020001415 |
Shadows2012 | -63 |
ShadowTint | 0 |
SharpenDetail | 25 |
SharpenEdgeMasking | 0 |
SharpenRadius | +1.0 |
Sharpness | 84 |
ShutterSpeed | 3 |
ShutterSpeedValue | 3 |
Software | Adobe Photoshop Lightroom 6.3 (Macintosh) |
SplitToningBalance | 0 |
SplitToningHighlightHue | 215 |
SplitToningHighlightSaturation | 50 |
SplitToningShadowHue | 0 |
SplitToningShadowSaturation | 0 |
Tint | +11 |
ToneCurve | 0, 0, 255, 255 |
ToneCurveBlue | 0, 0, 255, 255 |
ToneCurveGreen | 0, 0, 255, 255 |
ToneCurveName | Linear |
ToneCurveName2012 | Linear |
ToneCurvePV2012 | 0, 0, 255, 255 |
ToneCurvePV2012Blue | 0, 0, 255, 255 |
ToneCurvePV2012Green | 0, 0, 255, 255 |
ToneCurvePV2012Red | 0, 0, 255, 255 |
ToneCurveRed | 0, 0, 255, 255 |
ToneMapStrength | 0 |
Version | 9.3 |
Vibrance | +30 |
VignetteAmount | 0 |
WhiteBalance (1) | Custom |
WhiteBalance | Manual |
Whites2012 | +100 |