Felt | Verdi |
AlreadyApplied | True |
Aperture | 5.6 |
ApertureValue | 5.6 |
ApproximateFocusDistance | 46.4 |
AutoLateralCA | 0 |
BitsPerSample | 8 |
Blacks2012 | +34 |
BlueHue | 0 |
BlueSaturation | 0 |
CameraProfile | Adobe Standard |
CircleOfConfusion | 0.019 mm |
Clarity2012 | 0 |
ColorComponents | 3 |
ColorNoiseReduction | 25 |
ColorNoiseReductionDetail | 50 |
ColorTemperature | 5000 |
ColorTransform | YCbCr |
Contrast2012 | +9 |
ConvertToGrayscale | False |
CreateDate (1) | 2015:04:19 06:38:14.01 |
CreateDate | 2015:04:19 06:38:14 |
CreatorTool | Adobe Photoshop Lightroom 4.4 (Macintosh) |
CropAngle | 1.7385 |
CropBottom | 0.982822 |
CropConstrainToWarp | 0 |
CropHeight | 2607 |
CropLeft | 0.094973 |
CropRight | 0.887651 |
CropTop | 0.192123 |
CropUnit | pixels |
CropWidth | 4190 |
CustomRendered | Normal |
DateCreated (1) | 2015:04:19 |
DateCreated | 2015:04:19 06:38:14.01 |
DateTimeOriginal | 2015:04:19 06:38:14 |
DefringeGreenAmount | 0 |
DefringeGreenHueHi | 60 |
DefringeGreenHueLo | 40 |
DefringePurpleAmount | 0 |
DefringePurpleHueHi | 70 |
DefringePurpleHueLo | 30 |
DOF | 1.27 m (45.78 - 47.04 m) |
Exposure2012 | 0.00 |
ExposureCompensation | +1/3 |
ExposureMode | Auto |
ExposureProgram | Aperture-priority AE |
ExposureTime | 1/320 |
Firmware | 2.0.3 |
Flash | Off, Did not fire |
FlashCompensation | 0 |
FNumber | 5.6 |
FocalLength | 600.0 mm |
FocalLength35efl | 600.0 mm (35 mm equivalent: 942.2 mm) |
Format | image/jpeg |
FOV | 2.2 deg |
GrainAmount | 0 |
GreenHue | 0 |
GreenSaturation | 0 |
HasCrop | True |
HasExtendedXMP | 7B6B1BF01FF209841A425C30AE99B25E |
HasSettings | True |
Highlights2012 | -30 |
HueAdjustmentAqua | 0 |
HueAdjustmentBlue | 0 |
HueAdjustmentGreen | 0 |
HueAdjustmentMagenta | 0 |
HueAdjustmentOrange | 0 |
HueAdjustmentPurple | 0 |
HueAdjustmentRed | 0 |
HueAdjustmentYellow | 0 |
HyperfocalDistance | 3359.81 m |
ImageHeight | 2607 |
ImageNumber | 0 |
ImageSize | 4190x2607 |
ImageWidth | 4190 |
ISO | 1000 |
Lens | EF300mm f/2.8L IS USM +2.0x |
LensID (1) | 142 |
LensID | Canon EF 300mm f/2.8L IS USM + 2x |
LensInfo | 600mm f/? |
LensManualDistortionAmount | 0 |
LensModel | EF300mm f/2.8L IS USM +2.0x |
LensProfileEnable | 0 |
LensProfileSetup | LensDefaults |
LightValue | 10.0 |
LuminanceAdjustmentAqua | 0 |
LuminanceAdjustmentBlue | 0 |
LuminanceAdjustmentGreen | 0 |
LuminanceAdjustmentMagenta | 0 |
LuminanceAdjustmentOrange | 0 |
LuminanceAdjustmentPurple | 0 |
LuminanceAdjustmentRed | 0 |
LuminanceAdjustmentYellow | 0 |
LuminanceSmoothing | 0 |
Make | Canon |
MaxApertureValue | 5.7 |
Megapixels | 10.9 |
MeteringMode | Multi-segment |
Model | Canon EOS 7D |
ModifyDate (1) | 2015:04:24 23:10:37+02:00 |
ModifyDate | 2015:04:24 23:10:37 |
PaintCorrectionActive | true |
PaintCorrectionAmount | 1.000000 |
PaintCorrectionBrightness | 0.000000 |
PaintCorrectionClarity2012 | 0.000000 |
PaintCorrectionContrast2012 | 0.000000 |
PaintCorrectionDefringe | 0.000000 |
PaintCorrectionExposure2012 | 0.000000 |
PaintCorrectionHighlights2012 | 0.000000 |
PaintCorrectionHue | 0.000000 |
PaintCorrectionLuminanceNoise (1) | 1.000000 |
PaintCorrectionLuminanceNoise | 0.000000 |
PaintCorrectionMaskCenterWeight | 0.000000 |
PaintCorrectionMaskFlow | 1.000000 |
PaintCorrectionMaskRadius (13) | 0.022271 |
PaintCorrectionMaskRadius (19) | 0.017056 |
PaintCorrectionMaskRadius (21) | 0.011937 |
PaintCorrectionMaskRadius (34) | 0.006917 |
PaintCorrectionMaskRadius (45) | 0.044137 |
PaintCorrectionMaskRadius (5) | 0.049811 |
PaintCorrectionMaskRadius (6) | 0.079789 |
PaintCorrectionMaskRadius (60) | 0.002483 |
PaintCorrectionMaskRadius (63) | 0.011945 |
PaintCorrectionMaskRadius (65) | 0.017067 |
PaintCorrectionMaskRadius (9) | 0.061510 |
PaintCorrectionMaskRadius | 0.006921 |
PaintCorrectionMaskValue | 1.000000 |
PaintCorrectionMaskWhat | Mask/Paint |
PaintCorrectionMoire | 0.000000 |
PaintCorrectionSaturation | 0.000000 |
PaintCorrectionShadows2012 | 0.000000 |
PaintCorrectionSharpness (1) | 0.000000 |
PaintCorrectionSharpness | 0.350000 |
PaintCorrectionTemperature | 0.000000 |
PaintCorrectionTint | 0.000000 |
PaintCorrectionWhat | Correction |
ParametricDarks | +15 |
ParametricHighlights | 0 |
ParametricHighlightSplit | 75 |
ParametricLights | -10 |
ParametricMidtoneSplit | 62 |
ParametricShadows | -8 |
ParametricShadowSplit | 25 |
PerspectiveHorizontal | 0 |
PerspectiveRotate | 0.0 |
PerspectiveScale | 100 |
PerspectiveVertical | 0 |
PostCropVignetteAmount | 0 |
ProcessVersion | 6.7 |
ProfileDescription | sRGB IEC61966-2.1 |
RecommendedExposureIndex | 1000 |
RedHue | 0 |
RedSaturation | 0 |
Saturation | +8 |
SaturationAdjustmentAqua | 0 |
SaturationAdjustmentBlue | 0 |
SaturationAdjustmentGreen | 0 |
SaturationAdjustmentMagenta | 0 |
SaturationAdjustmentOrange | 0 |
SaturationAdjustmentPurple | 0 |
SaturationAdjustmentRed | 0 |
SaturationAdjustmentYellow | 0 |
ScaleFactor35efl | 1.6 |
SceneCaptureType | Standard |
SensitivityType | Recommended Exposure Index |
SerialNumber | 3381415566 |
Shadows2012 | +10 |
ShadowTint | 0 |
SharpenDetail | 25 |
SharpenEdgeMasking | 0 |
SharpenRadius | +1.0 |
Sharpness | 25 |
ShutterSpeed | 1/320 |
ShutterSpeedValue | 1/320 |
Software | Adobe Photoshop Lightroom 4.4 (Macintosh) |
SplitToningBalance | 0 |
SplitToningHighlightHue | 0 |
SplitToningHighlightSaturation | 0 |
SplitToningShadowHue | 0 |
SplitToningShadowSaturation | 0 |
Tint | +24 |
ToneCurveName2012 | Linear |
ToneCurvePV2012 | 0, 0, 255, 255 |
ToneCurvePV2012Blue | 0, 0, 255, 255 |
ToneCurvePV2012Green | 0, 0, 255, 255 |
ToneCurvePV2012Red | 0, 0, 255, 255 |
Version | 7.4 |
Vibrance | 0 |
VignetteAmount | 0 |
WhiteBalance (1) | Custom |
WhiteBalance | Auto |
Whites2012 | 0 |